BEGIN:VCALENDAR
VERSION:2.0
PRODID:-//Ilmington Parish Council//Meeting Calendar//EN
CALSCALE:GREGORIAN
METHOD:PUBLISH
BEGIN:VEVENT
UID:71164-20231207@ilmington-pc.gov.uk
DTSTAMP:20260425T152546Z
DTSTART;VALUE=DATE:20231207
DTEND;VALUE=DATE:20231208
SUMMARY:Council Meeting &#8211\\; 7 December 2023
DESCRIPTION:Full Council Meeting\nView details: https://ilmington-pc.gov.uk/meetings/council-meeting-7-december-2023/
URL:https://ilmington-pc.gov.uk/meetings/council-meeting-7-december-2023/
END:VEVENT
END:VCALENDAR
