BEGIN:VCALENDAR
VERSION:2.0
PRODID:-//Ilmington Parish Council//Meeting Calendar//EN
CALSCALE:GREGORIAN
METHOD:PUBLISH
BEGIN:VEVENT
UID:71116-20231102@ilmington-pc.gov.uk
DTSTAMP:20260425T140154Z
DTSTART;VALUE=DATE:20231102
DTEND;VALUE=DATE:20231103
SUMMARY:Council Meeting &#8211\\; 2 November 2023
DESCRIPTION:Full Council Meeting\nView details: https://ilmington-pc.gov.uk/meetings/council-meeting-2-november-2023/
URL:https://ilmington-pc.gov.uk/meetings/council-meeting-2-november-2023/
END:VEVENT
END:VCALENDAR
