BEGIN:VCALENDAR
VERSION:2.0
PRODID:-//Ilmington Parish Council//Meeting Calendar//EN
CALSCALE:GREGORIAN
METHOD:PUBLISH
BEGIN:VEVENT
UID:70385-20230209@ilmington-pc.gov.uk
DTSTAMP:20260419T121439Z
DTSTART;VALUE=DATE:20230209
DTEND;VALUE=DATE:20230210
SUMMARY:Council Meeting &#8211\\; 9 February 2023
DESCRIPTION:Full Council Meeting\nView details: https://ilmington-pc.gov.uk/meetings/council-meeting-9-february-2023/
URL:https://ilmington-pc.gov.uk/meetings/council-meeting-9-february-2023/
END:VEVENT
END:VCALENDAR
