BEGIN:VCALENDAR
VERSION:2.0
PRODID:-//Ilmington Parish Council//Meeting Calendar//EN
CALSCALE:GREGORIAN
METHOD:PUBLISH
BEGIN:VEVENT
UID:69714-20180116@ilmington-pc.gov.uk
DTSTAMP:20260422T084648Z
DTSTART;VALUE=DATE:20180116
DTEND;VALUE=DATE:20180117
SUMMARY:Steering Group Meeting &#8211\\; 16th January 2018
DESCRIPTION:Neighbourhood Plan Steering Group Meeting\nView details: https://ilmington-pc.gov.uk/meetings/steering-group-meeting-16th-january-2018/
URL:https://ilmington-pc.gov.uk/meetings/steering-group-meeting-16th-january-2018/
END:VEVENT
END:VCALENDAR
