BEGIN:VCALENDAR
VERSION:2.0
PRODID:-//Ilmington Parish Council//Meeting Calendar//EN
CALSCALE:GREGORIAN
METHOD:PUBLISH
BEGIN:VEVENT
UID:69696-20160517@ilmington-pc.gov.uk
DTSTAMP:20260422T084817Z
DTSTART;VALUE=DATE:20160517
DTEND;VALUE=DATE:20160518
SUMMARY:Steering Group Meeting &#8211\\; 17th May 2016
DESCRIPTION:Neighbourhood Plan Steering Group Meeting\nView details: https://ilmington-pc.gov.uk/meetings/steering-group-meeting-17th-may-2016/
URL:https://ilmington-pc.gov.uk/meetings/steering-group-meeting-17th-may-2016/
END:VEVENT
END:VCALENDAR
