BEGIN:VCALENDAR
VERSION:2.0
PRODID:-//Ilmington Parish Council//Meeting Calendar//EN
CALSCALE:GREGORIAN
METHOD:PUBLISH
BEGIN:VEVENT
UID:69695-20160411@ilmington-pc.gov.uk
DTSTAMP:20260424T083718Z
DTSTART;VALUE=DATE:20160411
DTEND;VALUE=DATE:20160412
SUMMARY:Steering Group Meeting &#8211\\; 11th April 2016
DESCRIPTION:Neighbourhood Plan Steering Group Meeting\nView details: https://ilmington-pc.gov.uk/meetings/steering-group-meeting-11th-april-2016/
URL:https://ilmington-pc.gov.uk/meetings/steering-group-meeting-11th-april-2016/
END:VEVENT
END:VCALENDAR
