BEGIN:VCALENDAR
VERSION:2.0
PRODID:-//Ilmington Parish Council//Meeting Calendar//EN
CALSCALE:GREGORIAN
METHOD:PUBLISH
BEGIN:VEVENT
UID:69672-20160321@ilmington-pc.gov.uk
DTSTAMP:20260424T100614Z
DTSTART;VALUE=DATE:20160321
DTEND;VALUE=DATE:20160322
SUMMARY:Steering Group Meeting &#8211\\; 21st March 2016
DESCRIPTION:Neighbourhood Plan Steering Group Meeting\nView details: https://ilmington-pc.gov.uk/meetings/steering-group-meeting-21st-march-2016/
URL:https://ilmington-pc.gov.uk/meetings/steering-group-meeting-21st-march-2016/
END:VEVENT
END:VCALENDAR
