BEGIN:VCALENDAR
VERSION:2.0
PRODID:-//Ilmington Parish Council//Meeting Calendar//EN
CALSCALE:GREGORIAN
METHOD:PUBLISH
BEGIN:VEVENT
UID:69549-20180830@ilmington-pc.gov.uk
DTSTAMP:20260423T090309Z
DTSTART;VALUE=DATE:20180830
DTEND;VALUE=DATE:20180831
SUMMARY:Council Meeting &#8211\\; 30th August 2018
DESCRIPTION:Full Council Meeting\nView details: https://ilmington-pc.gov.uk/meetings/council-meeting-30th-august-2018/
URL:https://ilmington-pc.gov.uk/meetings/council-meeting-30th-august-2018/
END:VEVENT
END:VCALENDAR
