BEGIN:VCALENDAR
VERSION:2.0
PRODID:-//Ilmington Parish Council//Meeting Calendar//EN
CALSCALE:GREGORIAN
METHOD:PUBLISH
BEGIN:VEVENT
UID:69544-20181023@ilmington-pc.gov.uk
DTSTAMP:20260421T084556Z
DTSTART;VALUE=DATE:20181023
DTEND;VALUE=DATE:20181024
SUMMARY:Council Meeting &#8211\\; 23rd October 2018
DESCRIPTION:Full Council Meeting\nView details: https://ilmington-pc.gov.uk/meetings/council-meeting-23rd-october-2018/
URL:https://ilmington-pc.gov.uk/meetings/council-meeting-23rd-october-2018/
END:VEVENT
END:VCALENDAR
