BEGIN:VCALENDAR
VERSION:2.0
PRODID:-//Ilmington Parish Council//Meeting Calendar//EN
CALSCALE:GREGORIAN
METHOD:PUBLISH
BEGIN:VEVENT
UID:69542-20190516@ilmington-pc.gov.uk
DTSTAMP:20260422T085338Z
DTSTART;VALUE=DATE:20190516
DTEND;VALUE=DATE:20190517
SUMMARY:Council Meeting – 16th May 2019
DESCRIPTION:Full Council Meeting\nView details: https://ilmington-pc.gov.uk/meetings/council-meeting-16th-may-2019/
URL:https://ilmington-pc.gov.uk/meetings/council-meeting-16th-may-2019/
END:VEVENT
END:VCALENDAR
