BEGIN:VCALENDAR
VERSION:2.0
PRODID:-//Ilmington Parish Council//Meeting Calendar//EN
CALSCALE:GREGORIAN
METHOD:PUBLISH
BEGIN:VEVENT
UID:69535-20190129@ilmington-pc.gov.uk
DTSTAMP:20260421T084111Z
DTSTART;VALUE=DATE:20190129
DTEND;VALUE=DATE:20190130
SUMMARY:Council Meeting – 29th January 2019
DESCRIPTION:Full Council Meeting\nView details: https://ilmington-pc.gov.uk/meetings/council-meeting-29th-january-2019/
URL:https://ilmington-pc.gov.uk/meetings/council-meeting-29th-january-2019/
END:VEVENT
END:VCALENDAR
