BEGIN:VCALENDAR
VERSION:2.0
PRODID:-//Ilmington Parish Council//Meeting Calendar//EN
CALSCALE:GREGORIAN
METHOD:PUBLISH
BEGIN:VEVENT
UID:69476-20220825@ilmington-pc.gov.uk
DTSTAMP:20260423T085544Z
DTSTART;VALUE=DATE:20220825
DTEND;VALUE=DATE:20220826
SUMMARY:Council Meeting &#8211\\; 25 August 2022
DESCRIPTION:Full Council Meeting\nView details: https://ilmington-pc.gov.uk/meetings/council-meeting-25-august-2022/
URL:https://ilmington-pc.gov.uk/meetings/council-meeting-25-august-2022/
END:VEVENT
END:VCALENDAR
